BEGIN:VCALENDAR
VERSION:2.0
PRODID:-//Totally Dublin - ECPv6.15.20//NONSGML v1.0//EN
CALSCALE:GREGORIAN
METHOD:PUBLISH
X-WR-CALNAME:Totally Dublin
X-ORIGINAL-URL:https://www.totallydublin.ie
X-WR-CALDESC:Events for Totally Dublin
REFRESH-INTERVAL;VALUE=DURATION:PT1H
X-Robots-Tag:noindex
X-PUBLISHED-TTL:PT1H
BEGIN:VTIMEZONE
TZID:Europe/Stockholm
BEGIN:DAYLIGHT
TZOFFSETFROM:+0100
TZOFFSETTO:+0200
TZNAME:CEST
DTSTART:20220327T010000
END:DAYLIGHT
BEGIN:STANDARD
TZOFFSETFROM:+0200
TZOFFSETTO:+0100
TZNAME:CET
DTSTART:20221030T010000
END:STANDARD
BEGIN:DAYLIGHT
TZOFFSETFROM:+0100
TZOFFSETTO:+0200
TZNAME:CEST
DTSTART:20230326T010000
END:DAYLIGHT
BEGIN:STANDARD
TZOFFSETFROM:+0200
TZOFFSETTO:+0100
TZNAME:CET
DTSTART:20231029T010000
END:STANDARD
BEGIN:DAYLIGHT
TZOFFSETFROM:+0100
TZOFFSETTO:+0200
TZNAME:CEST
DTSTART:20240331T010000
END:DAYLIGHT
BEGIN:STANDARD
TZOFFSETFROM:+0200
TZOFFSETTO:+0100
TZNAME:CET
DTSTART:20241027T010000
END:STANDARD
END:VTIMEZONE
BEGIN:VEVENT
DTSTART;TZID=Europe/Stockholm:20231130T193000
DTEND;TZID=Europe/Stockholm:20231130T223000
DTSTAMP:20260420T152814
CREATED:20231117T112023Z
LAST-MODIFIED:20231117T112023Z
UID:94695-1701372600-1701383400@www.totallydublin.ie
SUMMARY:The Exorcist
DESCRIPTION:Slaughterhouse start their ‘Winter of Despair’ season with a 50th anniversary screening of The Exorcist. William Friedkin\, who bade farewell to us this summer\, directed this classic which became the first horror film to be nominated for a Best Picture Oscar. Many of The Exorcist‘s cast and crew members believed the set was cursed. After a number of eerie incidents on the New York City set\, including a studio fire Friedkin regularly brought in a priest\, Father King\, to bless the cast\, crew\, and set. By the end of the film’s production\, nine people associated with its making had passed away. \nA Q&A follows it with director Kate Dolan (You Are Not My Mother)\, comedian Peter McGann and Aran from the ClassHorrorCast.
URL:https://www.totallydublin.ie/event/the-exorcist/
LOCATION:The Complex\, 15 Little Green St\, Smithfield\, Dublin 7\, Ireland
CATEGORIES:Screening
ATTACH;FMTTYPE=image/jpeg:https://www.totallydublin.ie/wp-content/uploads/2023/11/The-Exorcist.jpg
END:VEVENT
BEGIN:VEVENT
DTSTART;TZID=Europe/Stockholm:20230423T193000
DTEND;TZID=Europe/Stockholm:20230423T223000
DTSTAMP:20260420T152814
CREATED:20230417T134817Z
LAST-MODIFIED:20230417T135347Z
UID:90176-1682278200-1682289000@www.totallydublin.ie
SUMMARY:Reds na hÉireann
DESCRIPTION:Kevin Brannigan\, who did our wonderful cover story Draoícht na Life for issue 208\, is the stiúrthóir of this look at Communism in Ireland. It’s a timely and insightful look into the grassroots and global movement and comes hot off the heels of Adam Curtis’s epic Russia 1985-1999: TraumaZone. The Communist Party of Ireland set up stall in 1921 with James Connolly inspiring the likes of Lenin. \nThis is a fascinating trawl through history with a number of protagonists contributing as they set about tackling property rights and the plight of the working class. Plus ça change… “Everyone smoked in closed rooms with no open windows\,” recollects Sinéad Morrissey whose parents met through the Party. Of course there were internecine feuds and the issue of the North to grapple with as armed struggle entered the fray of discourse. \n \nThe archival footage is wonderful. We get to see David Vipond marching in the Monaghan by-election of ’73 with the slogan\, “Down with the three main bourgeoise parties – Fianna Fail\, Fine Gael and Labour.” 2025 is coming into view. \nAssemble Comrades! \n Sugar Club\, Sunday\, April 23 (screening followed by panel discussion)
URL:https://www.totallydublin.ie/event/reds-na-heireann/
LOCATION:The Sugar Club\, 8 Lower Leeson Street\, Dublin 2\, Ireland
CATEGORIES:Screening
ATTACH;FMTTYPE=image/jpeg:https://www.totallydublin.ie/wp-content/uploads/2023/04/Reds-na-hEireann-1.jpg
END:VEVENT
END:VCALENDAR